Package: KEGGREST Version: 1.46.0 Command: /home/biocbuild/R/R/bin/R CMD INSTALL KEGGREST StartedAt: 2025-01-27 21:11:19 -0000 (Mon, 27 Jan 2025) EndedAt: 2025-01-27 21:11:31 -0000 (Mon, 27 Jan 2025) EllapsedTime: 12.3 seconds RetCode: 0 Status: OK