Package: KEGGREST Version: 1.46.0 Command: /home/biocbuild/R/R/bin/R CMD check --install=check:KEGGREST.install-out.txt --library=/home/biocbuild/R/R/site-library --no-vignettes --timings KEGGREST_1.46.0.tar.gz StartedAt: 2025-01-28 08:23:07 -0000 (Tue, 28 Jan 2025) EndedAt: 2025-01-28 08:25:49 -0000 (Tue, 28 Jan 2025) EllapsedTime: 162.3 seconds RetCode: 0 Status: OK CheckDir: KEGGREST.Rcheck Warnings: 0