Package: KEGGREST Version: 1.46.0 Command: chmod a+r KEGGREST -R && F:\biocbuild\bbs-3.20-bioc\R\bin\R.exe CMD build --keep-empty-dirs --no-resave-data KEGGREST StartedAt: 2025-02-03 20:00:36 -0500 (Mon, 03 Feb 2025) EndedAt: 2025-02-03 20:01:15 -0500 (Mon, 03 Feb 2025) EllapsedTime: 38.7 seconds RetCode: 0 Status: OK PackageFile: KEGGREST_1.46.0.tar.gz PackageFileSize: 233.6 KiB