Package: KEGGREST Version: 1.46.0 Command: /home/biocbuild/bbs-3.20-bioc/R/bin/R CMD INSTALL KEGGREST StartedAt: 2025-03-31 15:15:25 -0400 (Mon, 31 Mar 2025) EndedAt: 2025-03-31 15:15:34 -0400 (Mon, 31 Mar 2025) EllapsedTime: 8.4 seconds RetCode: 0 Status: OK