Package: KEGGREST Version: 1.46.0 Command: /home/biocbuild/bbs-3.20-bioc/R/bin/R CMD check --install=check:KEGGREST.install-out.txt --library=/home/biocbuild/bbs-3.20-bioc/R/site-library --timings KEGGREST_1.46.0.tar.gz StartedAt: 2025-01-28 00:20:01 -0500 (Tue, 28 Jan 2025) EndedAt: 2025-01-28 00:23:39 -0500 (Tue, 28 Jan 2025) EllapsedTime: 218.3 seconds RetCode: 0 Status: OK CheckDir: KEGGREST.Rcheck Warnings: 0