Package: KEGGREST Version: 1.46.0 Command: /Library/Frameworks/R.framework/Resources/bin/R CMD build --keep-empty-dirs --no-resave-data KEGGREST StartedAt: 2025-02-03 19:54:07 -0500 (Mon, 03 Feb 2025) EndedAt: 2025-02-03 19:54:59 -0500 (Mon, 03 Feb 2025) EllapsedTime: 51.2 seconds RetCode: 0 Status: OK PackageFile: KEGGREST_1.46.0.tar.gz PackageFileSize: 233.5 KiB