Package: KCsmart Version: 2.64.0 Command: /home/biocbuild/R/R/bin/R CMD check --install=check:KCsmart.install-out.txt --library=/home/biocbuild/R/R/site-library --no-vignettes --timings KCsmart_2.64.0.tar.gz StartedAt: 2025-01-28 08:21:35 -0000 (Tue, 28 Jan 2025) EndedAt: 2025-01-28 08:23:13 -0000 (Tue, 28 Jan 2025) EllapsedTime: 98.1 seconds RetCode: 0 Status: WARNINGS CheckDir: KCsmart.Rcheck Warnings: 1