Package: KCsmart Version: 2.64.0 Command: /home/biocbuild/R/R/bin/R CMD build --keep-empty-dirs --no-resave-data KCsmart StartedAt: 2025-01-28 01:10:06 -0000 (Tue, 28 Jan 2025) EndedAt: 2025-01-28 01:10:37 -0000 (Tue, 28 Jan 2025) EllapsedTime: 31.0 seconds RetCode: 0 Status: OK PackageFile: KCsmart_2.64.0.tar.gz PackageFileSize: 1.804 MiB