Package: KBoost Version: 1.14.0 Command: /home/biocbuild/bbs-3.20-bioc/R/bin/R CMD check --install=check:KBoost.install-out.txt --library=/home/biocbuild/bbs-3.20-bioc/R/site-library --timings KBoost_1.14.0.tar.gz StartedAt: 2025-03-31 23:20:43 -0400 (Mon, 31 Mar 2025) EndedAt: 2025-03-31 23:21:16 -0400 (Mon, 31 Mar 2025) EllapsedTime: 33.0 seconds RetCode: 0 Status: OK CheckDir: KBoost.Rcheck Warnings: 0