Package: IsoformSwitchAnalyzeR Version: 2.6.0 Command: F:\biocbuild\bbs-3.20-bioc\R\bin\R.exe CMD check --no-multiarch --install=check:IsoformSwitchAnalyzeR.install-out.txt --library=F:\biocbuild\bbs-3.20-bioc\R\library --no-vignettes --timings IsoformSwitchAnalyzeR_2.6.0.tar.gz StartedAt: 2025-01-28 02:47:56 -0500 (Tue, 28 Jan 2025) EndedAt: 2025-01-28 03:01:23 -0500 (Tue, 28 Jan 2025) EllapsedTime: 806.6 seconds RetCode: 0 Status: OK CheckDir: IsoformSwitchAnalyzeR.Rcheck Warnings: 0