Package: IsoformSwitchAnalyzeR Version: 2.6.0 Command: /Library/Frameworks/R.framework/Resources/bin/R CMD build --keep-empty-dirs --no-resave-data IsoformSwitchAnalyzeR StartedAt: 2025-01-27 19:57:22 -0500 (Mon, 27 Jan 2025) EndedAt: 2025-01-27 20:05:21 -0500 (Mon, 27 Jan 2025) EllapsedTime: 478.4 seconds RetCode: 0 Status: OK PackageFile: IsoformSwitchAnalyzeR_2.6.0.tar.gz PackageFileSize: 6.593 MiB