Package: IsoformSwitchAnalyzeR Version: 2.6.0 Command: /Library/Frameworks/R.framework/Resources/bin/R CMD INSTALL IsoformSwitchAnalyzeR StartedAt: 2025-02-03 17:31:58 -0500 (Mon, 03 Feb 2025) EndedAt: 2025-02-03 17:33:12 -0500 (Mon, 03 Feb 2025) EllapsedTime: 73.8 seconds RetCode: 0 Status: OK