Package: IsoCorrectoRGUI Version: 1.22.0 Command: /home/biocbuild/R/R/bin/R CMD check --install=check:IsoCorrectoRGUI.install-out.txt --library=/home/biocbuild/R/R/site-library --no-vignettes --timings IsoCorrectoRGUI_1.22.0.tar.gz StartedAt: 2025-02-11 07:26:33 -0000 (Tue, 11 Feb 2025) EndedAt: 2025-02-11 07:27:04 -0000 (Tue, 11 Feb 2025) EllapsedTime: 31.0 seconds RetCode: 1 Status: ERROR CheckDir: IsoCorrectoRGUI.Rcheck Warnings: NA