Package: IsoCorrectoRGUI Version: 1.22.0 Command: /home/biocbuild/R/R/bin/R CMD build --keep-empty-dirs --no-resave-data IsoCorrectoRGUI StartedAt: 2025-02-04 00:29:40 -0000 (Tue, 04 Feb 2025) EndedAt: 2025-02-04 00:29:50 -0000 (Tue, 04 Feb 2025) EllapsedTime: 10.0 seconds RetCode: 0 Status: OK PackageFile: IsoCorrectoRGUI_1.22.0.tar.gz PackageFileSize: 464.2 KiB