Package: IsoCorrectoRGUI Version: 1.22.0 Command: /Library/Frameworks/R.framework/Resources/bin/R CMD check --install=check:IsoCorrectoRGUI.install-out.txt --library=/Library/Frameworks/R.framework/Resources/library --no-vignettes --timings IsoCorrectoRGUI_1.22.0.tar.gz StartedAt: 2025-02-11 23:13:54 -0500 (Tue, 11 Feb 2025) EndedAt: 2025-02-11 23:14:41 -0500 (Tue, 11 Feb 2025) EllapsedTime: 46.9 seconds RetCode: 0 Status: OK CheckDir: IsoCorrectoRGUI.Rcheck Warnings: 0