Package: IsoCorrectoRGUI Version: 1.22.0 Command: /Library/Frameworks/R.framework/Resources/bin/R CMD build --keep-empty-dirs --no-resave-data IsoCorrectoRGUI StartedAt: 2025-02-11 02:11:07 -0500 (Tue, 11 Feb 2025) EndedAt: 2025-02-11 02:11:19 -0500 (Tue, 11 Feb 2025) EllapsedTime: 12.3 seconds RetCode: 0 Status: OK PackageFile: IsoCorrectoRGUI_1.22.0.tar.gz PackageFileSize: 439.3 KiB