Package: IsoCorrectoR Version: 1.24.0 Command: /home/biocbuild/bbs-3.20-bioc/R/bin/R CMD check --install=check:IsoCorrectoR.install-out.txt --library=/home/biocbuild/bbs-3.20-bioc/R/site-library --timings IsoCorrectoR_1.24.0.tar.gz StartedAt: 2025-03-31 23:17:34 -0400 (Mon, 31 Mar 2025) EndedAt: 2025-03-31 23:18:56 -0400 (Mon, 31 Mar 2025) EllapsedTime: 82.0 seconds RetCode: 0 Status: OK CheckDir: IsoCorrectoR.Rcheck Warnings: 0