Package: IsoCorrectoR Version: 1.24.0 Command: /Library/Frameworks/R.framework/Resources/bin/R CMD INSTALL IsoCorrectoR StartedAt: 2025-03-31 15:30:09 -0400 (Mon, 31 Mar 2025) EndedAt: 2025-03-31 15:30:18 -0400 (Mon, 31 Mar 2025) EllapsedTime: 9.2 seconds RetCode: 0 Status: OK