Package: IsoBayes Version: 1.4.0 Command: F:\biocbuild\bbs-3.20-bioc\R\bin\R.exe CMD check --no-multiarch --install=check:IsoBayes.install-out.txt --library=F:\biocbuild\bbs-3.20-bioc\R\library --no-vignettes --timings IsoBayes_1.4.0.tar.gz StartedAt: 2025-04-01 02:46:49 -0400 (Tue, 01 Apr 2025) EndedAt: 2025-04-01 02:54:15 -0400 (Tue, 01 Apr 2025) EllapsedTime: 446.2 seconds RetCode: 0 Status: OK CheckDir: IsoBayes.Rcheck Warnings: 0