Package: IsoBayes Version: 1.4.0 Command: chmod a+r IsoBayes -R && F:\biocbuild\bbs-3.20-bioc\R\bin\R.exe CMD build --keep-empty-dirs --no-resave-data IsoBayes StartedAt: 2025-03-31 19:45:41 -0400 (Mon, 31 Mar 2025) EndedAt: 2025-03-31 19:48:05 -0400 (Mon, 31 Mar 2025) EllapsedTime: 143.9 seconds RetCode: 0 Status: OK PackageFile: IsoBayes_1.4.0.tar.gz PackageFileSize: 1.464 MiB