Package: IntramiRExploreR Version: 1.28.0 Command: /home/biocbuild/bbs-3.20-bioc/R/bin/R CMD INSTALL IntramiRExploreR StartedAt: 2025-03-31 15:19:43 -0400 (Mon, 31 Mar 2025) EndedAt: 2025-03-31 15:19:55 -0400 (Mon, 31 Mar 2025) EllapsedTime: 11.5 seconds RetCode: 0 Status: OK