Package: IntramiRExploreR Version: 1.28.0 Command: /home/biocbuild/bbs-3.20-bioc/R/bin/R CMD build --keep-empty-dirs --no-resave-data --md5 IntramiRExploreR StartedAt: 2025-03-31 17:44:01 -0400 (Mon, 31 Mar 2025) EndedAt: 2025-03-31 17:44:20 -0400 (Mon, 31 Mar 2025) EllapsedTime: 19.0 seconds RetCode: 0 Status: OK PackageFile: IntramiRExploreR_1.28.0.tar.gz PackageFileSize: 8.902 MiB