Package: InteractiveComplexHeatmap Version: 1.14.0 Command: chmod a+r InteractiveComplexHeatmap -R && F:\biocbuild\bbs-3.20-bioc\R\bin\R.exe CMD build --keep-empty-dirs --no-resave-data InteractiveComplexHeatmap StartedAt: 2025-03-31 19:41:49 -0400 (Mon, 31 Mar 2025) EndedAt: 2025-03-31 19:42:54 -0400 (Mon, 31 Mar 2025) EllapsedTime: 65.3 seconds RetCode: 0 Status: OK PackageFile: InteractiveComplexHeatmap_1.14.0.tar.gz PackageFileSize: 886.6 KiB