Package: InteractiveComplexHeatmap Version: 1.14.0 Command: /home/biocbuild/bbs-3.20-bioc/R/bin/R CMD check --install=check:InteractiveComplexHeatmap.install-out.txt --library=/home/biocbuild/bbs-3.20-bioc/R/site-library --timings InteractiveComplexHeatmap_1.14.0.tar.gz StartedAt: 2025-01-28 00:08:09 -0500 (Tue, 28 Jan 2025) EndedAt: 2025-01-28 00:10:31 -0500 (Tue, 28 Jan 2025) EllapsedTime: 142.1 seconds RetCode: 0 Status: OK CheckDir: InteractiveComplexHeatmap.Rcheck Warnings: 0