Package: InteractiveComplexHeatmap Version: 1.14.0 Command: /Library/Frameworks/R.framework/Resources/bin/R CMD build --keep-empty-dirs --no-resave-data InteractiveComplexHeatmap StartedAt: 2025-02-03 19:46:55 -0500 (Mon, 03 Feb 2025) EndedAt: 2025-02-03 19:48:19 -0500 (Mon, 03 Feb 2025) EllapsedTime: 83.2 seconds RetCode: 0 Status: OK PackageFile: InteractiveComplexHeatmap_1.14.0.tar.gz PackageFileSize: 968.6 KiB