Package: InteractiveComplexHeatmap Version: 1.14.0 Command: /Library/Frameworks/R.framework/Resources/bin/R CMD INSTALL InteractiveComplexHeatmap StartedAt: 2025-02-03 16:34:23 -0500 (Mon, 03 Feb 2025) EndedAt: 2025-02-03 16:34:38 -0500 (Mon, 03 Feb 2025) EllapsedTime: 15.1 seconds RetCode: 0 Status: OK