Package: InteractionSet Version: 1.34.0 Command: rm -rf InteractionSet.buildbin-libdir && mkdir InteractionSet.buildbin-libdir && F:\biocbuild\bbs-3.20-bioc\R\bin\R.exe CMD INSTALL --build --library=InteractionSet.buildbin-libdir InteractionSet_1.34.0.tar.gz StartedAt: 2025-04-01 08:26:24 -0400 (Tue, 01 Apr 2025) EndedAt: 2025-04-01 08:30:04 -0400 (Tue, 01 Apr 2025) EllapsedTime: 220.0 seconds RetCode: 0 Status: OK PackageFile: InteractionSet_1.34.0.zip PackageFileSize: 1.852 MiB