Package: IntEREst Version: 1.30.0 Command: F:\biocbuild\bbs-3.20-bioc\R\bin\R.exe CMD check --no-multiarch --install=check:IntEREst.install-out.txt --library=F:\biocbuild\bbs-3.20-bioc\R\library --no-vignettes --timings IntEREst_1.30.0.tar.gz StartedAt: 2025-02-04 02:58:01 -0500 (Tue, 04 Feb 2025) EndedAt: 2025-02-04 03:05:14 -0500 (Tue, 04 Feb 2025) EllapsedTime: 432.5 seconds RetCode: 0 Status: OK CheckDir: IntEREst.Rcheck Warnings: 0