Package: IntEREst Version: 1.30.0 Command: rm -rf IntEREst.buildbin-libdir && mkdir IntEREst.buildbin-libdir && F:\biocbuild\bbs-3.20-bioc\R\bin\R.exe CMD INSTALL --build --library=IntEREst.buildbin-libdir IntEREst_1.30.0.tar.gz StartedAt: 2025-02-04 08:45:06 -0500 (Tue, 04 Feb 2025) EndedAt: 2025-02-04 08:46:40 -0500 (Tue, 04 Feb 2025) EllapsedTime: 94.0 seconds RetCode: 0 Status: OK PackageFile: IntEREst_1.30.0.zip PackageFileSize: 1.787 MiB