Package: IntEREst Version: 1.30.2 Command: /Library/Frameworks/R.framework/Resources/bin/R CMD check --install=check:IntEREst.install-out.txt --library=/Library/Frameworks/R.framework/Resources/library --no-vignettes --timings IntEREst_1.30.2.tar.gz StartedAt: 2025-04-01 04:35:22 -0400 (Tue, 01 Apr 2025) EndedAt: 2025-04-01 04:47:53 -0400 (Tue, 01 Apr 2025) EllapsedTime: 751.1 seconds RetCode: 0 Status: OK CheckDir: IntEREst.Rcheck Warnings: 0