Package: IntEREst Version: 1.30.0 Command: /Library/Frameworks/R.framework/Resources/bin/R CMD build --keep-empty-dirs --no-resave-data IntEREst StartedAt: 2025-01-28 01:55:50 -0500 (Tue, 28 Jan 2025) EndedAt: 2025-01-28 01:58:08 -0500 (Tue, 28 Jan 2025) EllapsedTime: 138.2 seconds RetCode: 0 Status: OK PackageFile: IntEREst_1.30.0.tar.gz PackageFileSize: 1.439 MiB