Package: InPAS Version: 2.14.1 Command: /home/biocbuild/R/R/bin/R CMD INSTALL InPAS StartedAt: 2025-01-30 20:33:44 -0000 (Thu, 30 Jan 2025) EndedAt: 2025-01-30 20:34:38 -0000 (Thu, 30 Jan 2025) EllapsedTime: 53.7 seconds RetCode: 0 Status: OK