Package: InPAS Version: 2.14.1 Command: /home/biocbuild/R/R/bin/R CMD build --keep-empty-dirs --no-resave-data InPAS StartedAt: 2025-01-31 00:24:42 -0000 (Fri, 31 Jan 2025) EndedAt: 2025-01-31 00:28:22 -0000 (Fri, 31 Jan 2025) EllapsedTime: 220.1 seconds RetCode: 0 Status: OK PackageFile: InPAS_2.14.1.tar.gz PackageFileSize: 1.368 MiB