Package: InPAS Version: 2.14.1 Command: F:\biocbuild\bbs-3.20-bioc\R\bin\R.exe CMD INSTALL InPAS StartedAt: 2025-01-30 16:17:03 -0500 (Thu, 30 Jan 2025) EndedAt: 2025-01-30 16:18:18 -0500 (Thu, 30 Jan 2025) EllapsedTime: 75.8 seconds RetCode: 0 Status: OK