Package: InPAS Version: 2.14.1 Command: /home/biocbuild/bbs-3.20-bioc/R/bin/R CMD INSTALL InPAS StartedAt: 2025-03-31 15:31:17 -0400 (Mon, 31 Mar 2025) EndedAt: 2025-03-31 15:32:00 -0400 (Mon, 31 Mar 2025) EllapsedTime: 43.3 seconds RetCode: 0 Status: OK