Package: InPAS Version: 2.14.1 Command: /Library/Frameworks/R.framework/Resources/bin/R CMD INSTALL InPAS StartedAt: 2025-03-31 16:23:20 -0400 (Mon, 31 Mar 2025) EndedAt: 2025-03-31 16:24:15 -0400 (Mon, 31 Mar 2025) EllapsedTime: 55.0 seconds RetCode: 0 Status: OK