Package: IgGeneUsage Version: 1.20.0 Command: F:\biocbuild\bbs-3.20-bioc\R\bin\R.exe CMD INSTALL IgGeneUsage StartedAt: 2025-01-27 16:04:16 -0500 (Mon, 27 Jan 2025) EndedAt: 2025-01-27 16:22:26 -0500 (Mon, 27 Jan 2025) EllapsedTime: 1090.6 seconds RetCode: 0 Status: OK