Package: IgGeneUsage Version: 1.20.0 Command: /Library/Frameworks/R.framework/Resources/bin/R CMD build --keep-empty-dirs --no-resave-data IgGeneUsage StartedAt: 2025-01-27 19:46:59 -0500 (Mon, 27 Jan 2025) EndedAt: 2025-01-27 20:18:18 -0500 (Mon, 27 Jan 2025) EllapsedTime: 1879.0 seconds RetCode: 0 Status: OK PackageFile: IgGeneUsage_1.20.0.tar.gz PackageFileSize: 1.208 MiB