Package: IdeoViz Version: 1.42.0 Command: /home/biocbuild/R/R/bin/R CMD build --keep-empty-dirs --no-resave-data IdeoViz StartedAt: 2025-01-28 01:00:46 -0000 (Tue, 28 Jan 2025) EndedAt: 2025-01-28 01:00:47 -0000 (Tue, 28 Jan 2025) EllapsedTime: 1.0 seconds RetCode: 0 Status: OK PackageFile: IdeoViz_1.42.0.tar.gz PackageFileSize: 411.8 KiB