Package: IdeoViz Version: 1.42.0 Command: /Library/Frameworks/R.framework/Resources/bin/R CMD check --install=check:IdeoViz.install-out.txt --library=/Library/Frameworks/R.framework/Resources/library --no-vignettes --timings IdeoViz_1.42.0.tar.gz StartedAt: 2025-01-28 22:10:53 -0500 (Tue, 28 Jan 2025) EndedAt: 2025-01-28 22:13:09 -0500 (Tue, 28 Jan 2025) EllapsedTime: 136.4 seconds RetCode: 0 Status: WARNINGS CheckDir: IdeoViz.Rcheck Warnings: 2