Package: Icens Version: 1.78.0 Command: F:\biocbuild\bbs-3.20-bioc\R\bin\R.exe CMD INSTALL Icens StartedAt: 2025-01-30 16:23:41 -0500 (Thu, 30 Jan 2025) EndedAt: 2025-01-30 16:23:53 -0500 (Thu, 30 Jan 2025) EllapsedTime: 12.3 seconds RetCode: 0 Status: OK