Package: Icens Version: 1.78.0 Command: chmod a+r Icens -R && F:\biocbuild\bbs-3.20-bioc\R\bin\R.exe CMD build --keep-empty-dirs --no-resave-data Icens StartedAt: 2025-01-30 19:33:35 -0500 (Thu, 30 Jan 2025) EndedAt: 2025-01-30 19:33:38 -0500 (Thu, 30 Jan 2025) EllapsedTime: 3.1 seconds RetCode: 0 Status: OK PackageFile: Icens_1.78.0.tar.gz PackageFileSize: 20.83 KiB