Package: Icens Version: 1.78.0 Command: /Library/Frameworks/R.framework/Resources/bin/R CMD build --keep-empty-dirs --no-resave-data Icens StartedAt: 2025-03-31 19:26:10 -0400 (Mon, 31 Mar 2025) EndedAt: 2025-03-31 19:26:12 -0400 (Mon, 31 Mar 2025) EllapsedTime: 2.3 seconds RetCode: 0 Status: OK PackageFile: Icens_1.78.0.tar.gz PackageFileSize: 20.83 KiB