Package: Icens Version: 1.78.0 Command: /home/biocbuild/R/R/bin/R CMD INSTALL Icens StartedAt: 2024-11-19 21:10:35 -0000 (Tue, 19 Nov 2024) EndedAt: 2024-11-19 21:10:44 -0000 (Tue, 19 Nov 2024) EllapsedTime: 8.7 seconds RetCode: 0 Status: OK