Package: IWTomics Version: 1.30.0 Command: /home/biocbuild/R/R/bin/R CMD INSTALL IWTomics StartedAt: 2025-03-31 21:11:33 -0000 (Mon, 31 Mar 2025) EndedAt: 2025-03-31 21:11:56 -0000 (Mon, 31 Mar 2025) EllapsedTime: 22.2 seconds RetCode: 0 Status: OK