Package: IWTomics Version: 1.30.0 Command: /home/biocbuild/bbs-3.20-bioc/R/bin/R CMD build --keep-empty-dirs --no-resave-data --md5 IWTomics StartedAt: 2025-01-27 18:42:59 -0500 (Mon, 27 Jan 2025) EndedAt: 2025-01-27 18:44:33 -0500 (Mon, 27 Jan 2025) EllapsedTime: 94.1 seconds RetCode: 0 Status: OK PackageFile: IWTomics_1.30.0.tar.gz PackageFileSize: 1.406 MiB