Package: IVAS Version: 2.26.0 Command: /home/biocbuild/bbs-3.20-bioc/R/bin/R CMD INSTALL IVAS StartedAt: 2025-03-31 15:24:14 -0400 (Mon, 31 Mar 2025) EndedAt: 2025-03-31 15:24:58 -0400 (Mon, 31 Mar 2025) EllapsedTime: 43.7 seconds RetCode: 0 Status: OK