Package: IVAS Version: 2.26.0 Command: /home/biocbuild/bbs-3.20-bioc/R/bin/R CMD check --install=check:IVAS.install-out.txt --library=/home/biocbuild/bbs-3.20-bioc/R/site-library --timings IVAS_2.26.0.tar.gz StartedAt: 2025-03-31 23:19:51 -0400 (Mon, 31 Mar 2025) EndedAt: 2025-03-31 23:25:24 -0400 (Mon, 31 Mar 2025) EllapsedTime: 333.4 seconds RetCode: 0 Status: WARNINGS CheckDir: IVAS.Rcheck Warnings: 1