Package: IVAS Version: 2.26.0 Command: /Library/Frameworks/R.framework/Resources/bin/R CMD check --install=check:IVAS.install-out.txt --library=/Library/Frameworks/R.framework/Resources/library --no-vignettes --timings IVAS_2.26.0.tar.gz StartedAt: 2025-01-28 05:39:46 -0500 (Tue, 28 Jan 2025) EndedAt: 2025-01-28 05:50:45 -0500 (Tue, 28 Jan 2025) EllapsedTime: 659.5 seconds RetCode: 0 Status: WARNINGS CheckDir: IVAS.Rcheck Warnings: 1