Package: ITALICS Version: 2.66.0 Command: /home/biocbuild/R/R/bin/R CMD INSTALL ITALICS StartedAt: 2025-01-30 20:21:03 -0000 (Thu, 30 Jan 2025) EndedAt: 2025-01-30 20:21:33 -0000 (Thu, 30 Jan 2025) EllapsedTime: 30.1 seconds RetCode: 0 Status: OK